BEGIN:VCALENDAR
VERSION:2.0
PRODID:-//jEvents 2.0 for Joomla//EN
CALSCALE:GREGORIAN
METHOD:PUBLISH
BEGIN:VTIMEZONE
TZID:Europe/Athens
BEGIN:STANDARD
DTSTART:20240216T000000
RDATE:20240331T040000
TZOFFSETFROM:+0300
TZOFFSETTO:+0200
TZNAME:Europe/Athens EET
END:STANDARD
BEGIN:STANDARD
DTSTART:20241027T030000
RDATE:20250330T040000
TZOFFSETFROM:+0300
TZOFFSETTO:+0200
TZNAME:Europe/Athens EET
END:STANDARD
BEGIN:STANDARD
DTSTART:20251026T030000
RDATE:20260329T040000
TZOFFSETFROM:+0300
TZOFFSETTO:+0200
TZNAME:Europe/Athens EET
END:STANDARD
BEGIN:STANDARD
DTSTART:20261025T030000
RDATE:20270328T040000
TZOFFSETFROM:+0300
TZOFFSETTO:+0200
TZNAME:Europe/Athens EET
END:STANDARD
BEGIN:STANDARD
DTSTART:20271031T030000
RDATE:20280326T040000
TZOFFSETFROM:+0300
TZOFFSETTO:+0200
TZNAME:Europe/Athens EET
END:STANDARD
BEGIN:STANDARD
DTSTART:20281029T030000
RDATE:20290325T040000
TZOFFSETFROM:+0300
TZOFFSETTO:+0200
TZNAME:Europe/Athens EET
END:STANDARD
BEGIN:STANDARD
DTSTART:20291028T030000
RDATE:20300331T040000
TZOFFSETFROM:+0300
TZOFFSETTO:+0200
TZNAME:Europe/Athens EET
END:STANDARD
BEGIN:STANDARD
DTSTART:20301027T030000
RDATE:20310330T040000
TZOFFSETFROM:+0300
TZOFFSETTO:+0200
TZNAME:Europe/Athens EET
END:STANDARD
BEGIN:DAYLIGHT
DTSTART:20240331T040000
RDATE:20241027T030000
TZOFFSETFROM:+0200
TZOFFSETTO:+0300
TZNAME:Europe/Athens EEST
END:DAYLIGHT
BEGIN:DAYLIGHT
DTSTART:20250330T040000
RDATE:20251026T030000
TZOFFSETFROM:+0200
TZOFFSETTO:+0300
TZNAME:Europe/Athens EEST
END:DAYLIGHT
BEGIN:DAYLIGHT
DTSTART:20260329T040000
RDATE:20261025T030000
TZOFFSETFROM:+0200
TZOFFSETTO:+0300
TZNAME:Europe/Athens EEST
END:DAYLIGHT
BEGIN:DAYLIGHT
DTSTART:20270328T040000
RDATE:20271031T030000
TZOFFSETFROM:+0200
TZOFFSETTO:+0300
TZNAME:Europe/Athens EEST
END:DAYLIGHT
BEGIN:DAYLIGHT
DTSTART:20280326T040000
RDATE:20281029T030000
TZOFFSETFROM:+0200
TZOFFSETTO:+0300
TZNAME:Europe/Athens EEST
END:DAYLIGHT
BEGIN:DAYLIGHT
DTSTART:20290325T040000
RDATE:20291028T030000
TZOFFSETFROM:+0200
TZOFFSETTO:+0300
TZNAME:Europe/Athens EEST
END:DAYLIGHT
BEGIN:DAYLIGHT
DTSTART:20300331T040000
RDATE:20301027T030000
TZOFFSETFROM:+0200
TZOFFSETTO:+0300
TZNAME:Europe/Athens EEST
END:DAYLIGHT
END:VTIMEZONE
BEGIN:VEVENT
UID:6ef42a34029842337d85b0c33592b91e
CATEGORIES:ΡΗΜΑΤΑ ΖΩΗΣ
SUMMARY:ΤΡΙΩΔΙΟΝ ΚΥΡΙΑΚΗ ΤΟΥ ΑΣΩΤΟΥ Β΄ ΚΥΡΙΑΚΗ ΤΡΙΩΔΙΟΥ ΙΖ΄ ΛΟΥΚΑ
DESCRIPTION;ENCODING=QUOTED-PRINTABLE:<p>&nbsp;</p><p><a href="https://www.agiomarko.gr/images/agmarkos/2025/16-2
 -2025.pdf" target="_blank">&Tau;&Rho;&Iota;&Omega;&Delta;&Iota;&Omicron;&Nu
 ; &Kappa;&Upsilon;&Rho;&Iota;&Alpha;&Kappa;&Eta; &Tau;&Omicron;&Upsilon; &A
 lpha;&Sigma;&Omega;&Tau;&Omicron;&Upsilon; &Beta;΄ &Kappa;&Upsilon;&Rho;&Io
 ta;&Alpha;&Kappa;&Eta; &Tau;&Rho;&Iota;&Omega;&Delta;&Iota;&Omicron;&Upsilo
 n; &Iota;&Zeta;΄ &Lambda;&Omicron;&Upsilon;&Kappa;&Alpha;</a></p><p>&nbsp;<
 /p><p>&nbsp;</p>
DTSTAMP:20260419T234848Z
DTSTART;TZID=Europe/Athens;VALUE=DATE:20250216
DTEND;TZID=Europe/Athens;VALUE=DATE:20250217
SEQUENCE:0
TRANSP:OPAQUE
END:VEVENT
END:VCALENDAR