BEGIN:VCALENDAR
VERSION:2.0
PRODID:-//jEvents 2.0 for Joomla//EN
CALSCALE:GREGORIAN
METHOD:PUBLISH
BEGIN:VTIMEZONE
TZID:Europe/Athens
BEGIN:STANDARD
DTSTART:20231226T000000
RDATE:20240331T040000
TZOFFSETFROM:+0300
TZOFFSETTO:+0200
TZNAME:Europe/Athens EET
END:STANDARD
BEGIN:STANDARD
DTSTART:20241027T030000
RDATE:20250330T040000
TZOFFSETFROM:+0300
TZOFFSETTO:+0200
TZNAME:Europe/Athens EET
END:STANDARD
BEGIN:STANDARD
DTSTART:20251026T030000
RDATE:20260329T040000
TZOFFSETFROM:+0300
TZOFFSETTO:+0200
TZNAME:Europe/Athens EET
END:STANDARD
BEGIN:STANDARD
DTSTART:20261025T030000
RDATE:20270328T040000
TZOFFSETFROM:+0300
TZOFFSETTO:+0200
TZNAME:Europe/Athens EET
END:STANDARD
BEGIN:STANDARD
DTSTART:20271031T030000
RDATE:20280326T040000
TZOFFSETFROM:+0300
TZOFFSETTO:+0200
TZNAME:Europe/Athens EET
END:STANDARD
BEGIN:STANDARD
DTSTART:20281029T030000
RDATE:20290325T040000
TZOFFSETFROM:+0300
TZOFFSETTO:+0200
TZNAME:Europe/Athens EET
END:STANDARD
BEGIN:STANDARD
DTSTART:20291028T030000
RDATE:20300331T040000
TZOFFSETFROM:+0300
TZOFFSETTO:+0200
TZNAME:Europe/Athens EET
END:STANDARD
BEGIN:STANDARD
DTSTART:20301027T030000
RDATE:20310330T040000
TZOFFSETFROM:+0300
TZOFFSETTO:+0200
TZNAME:Europe/Athens EET
END:STANDARD
BEGIN:DAYLIGHT
DTSTART:20240331T040000
RDATE:20241027T030000
TZOFFSETFROM:+0200
TZOFFSETTO:+0300
TZNAME:Europe/Athens EEST
END:DAYLIGHT
BEGIN:DAYLIGHT
DTSTART:20250330T040000
RDATE:20251026T030000
TZOFFSETFROM:+0200
TZOFFSETTO:+0300
TZNAME:Europe/Athens EEST
END:DAYLIGHT
BEGIN:DAYLIGHT
DTSTART:20260329T040000
RDATE:20261025T030000
TZOFFSETFROM:+0200
TZOFFSETTO:+0300
TZNAME:Europe/Athens EEST
END:DAYLIGHT
BEGIN:DAYLIGHT
DTSTART:20270328T040000
RDATE:20271031T030000
TZOFFSETFROM:+0200
TZOFFSETTO:+0300
TZNAME:Europe/Athens EEST
END:DAYLIGHT
BEGIN:DAYLIGHT
DTSTART:20280326T040000
RDATE:20281029T030000
TZOFFSETFROM:+0200
TZOFFSETTO:+0300
TZNAME:Europe/Athens EEST
END:DAYLIGHT
BEGIN:DAYLIGHT
DTSTART:20290325T040000
RDATE:20291028T030000
TZOFFSETFROM:+0200
TZOFFSETTO:+0300
TZNAME:Europe/Athens EEST
END:DAYLIGHT
BEGIN:DAYLIGHT
DTSTART:20300331T040000
RDATE:20301027T030000
TZOFFSETFROM:+0200
TZOFFSETTO:+0300
TZNAME:Europe/Athens EEST
END:DAYLIGHT
END:VTIMEZONE
BEGIN:VEVENT
UID:f3b433825dd500a82fe369b158830a98
CATEGORIES:ΓΙΟΡΤΕΣ
SUMMARY:ΘΕΟΦΑΝΕΙΑ - ΜΗΝΟΛΟΓΙΟΝ - ΡΗΜΑΤΑ ΖΩΗΣ
DESCRIPTION;ENCODING=QUOTED-PRINTABLE:<p style="text-align: center;"><strong>ΘΕΟΦΑΝΕΙΑ </strong></p><p style="tex
 t-align: center;"></p><p style="text-align: center;"><strong><a href="https
 ://www.agiomarko.gr/images/agmarkos/2025/akoloythia-thofania.pdf" target="_
 blank">ΑΚΟΛΟΥΘΙΑ ΤΩΝ ΜΕΓΑΛΩΝ ΩΡΩΝ ΤΩΝ ΘΕΟΦΑΝΕΙΩΝ ΤΕΥΧΟΣ Α΄ Η ΠΡΩΤΗ ΚΑΙ Η ΤΡ
 ΙΤΗ ΩΡΑ</a></strong></p><p style="text-align: center;"><strong><a href="htt
 ps://www.agiomarko.gr/images/agmarkos/2025/akoloythia-thofania-2.pdf" targe
 t="_blank">ΑΚΟΛΟΥΘΙΑ ΤΩΝ ΜΕΓΑΛΩΝ ΩΡΩΝ ΤΩΝ ΘΕΟΦΑΝΕΙΩΝ Η ΕΚΤΗ ΚΑΙ Η ΕΝΝΑΤΗ ΩΡ
 Α</a></strong></p><p style="text-align: center;"><strong><a href="https://w
 ww.agiomarko.gr/images/agmarkos/2025/akoloythia-thofania-3.pdf" target="_bl
 ank">ΤΑ ΑΓΙΑ ΘΕΟΦΑΝΕΙΑ ΟΡΘΡΟΣ ΘΕΙΑ ΛΕΙΤΟΥΡΓΙΑ ΚΑΙ ΜΕΓΑΣ ΑΓΙΑΣΜΟΣ</a></stron
 g></p><p style="text-align: center;"><strong><a href="https://www.agiomarko
 .gr/images/agmarkos/2025/akoloythia-thofania-esperinos.pdf" target="_blank"
 >Ο ΜΕΓΑΣ ΕΣΠΕΡΙΝΟΣ ΤΩΝ ΘΕΟΦΑΝΕΙΩΝ</a></strong></p><p style="text-align: cen
 ter;"><strong>ΜΗΝΟΛΟΓΙΟΝ</strong></p><p style="text-align: center;"><strong
 ><a href="https://www.agiomarko.gr/images/agmarkos/2025/27-12-24-minologio.
 pdf" target="_blank">ΜΗΝΟΛΟΓΙΟΝ 27/12/2024</a></strong></p><p style="text-a
 lign: center;"><strong><a href="https://www.agiomarko.gr/images/agmarkos/20
 25/1-1-25-minologio.pdf" target="_blank">ΜΗΝΟΛΟΓΙΟΝ 1/1/2025</a></strong></
 p><p style="text-align: center;"><strong><a href="https://www.agiomarko.gr/
 images/agmarkos/2025/7-1-25-minologio.pdf" target="_blank">ΜΗΝΟΛΟΓΙΟΝ 7/1/2
 025</a></strong></p><p style="text-align: center;"><strong>ΡΗΜΑΤΑ ΖΩΗΣ</str
 ong></p><p style="text-align: center;"><strong><a href="https://www.agiomar
 ko.gr/images/agmarkos/2025/29-12-24-rimata.pdf" target="_blank">ΡΗΜΑΤΑ ΖΩΗΣ
  ΚΥΡΙΑΚΗ ΜΕΤΑ ΤΗΝ ΧΡΙΣΤΟΥ ΓΕΝΝΗΣΙΝ 29/12/2024</a></strong></p><p style="tex
 t-align: center;"><strong><a href="https://www.agiomarko.gr/images/agmarkos
 /2025/5-1-25-rimata.pdf" target="_blank">ΡΗΜΑΤΑ ΖΩΗΣ ΚΥΡΙΑΚΗ ΠΡΟ ΤΩΝ ΦΩΤΩΝ 
 5/1/2025</a></strong></p>
DTSTAMP:20260419T200732Z
DTSTART;TZID=Europe/Athens;VALUE=DATE:20241226
DTEND;TZID=Europe/Athens;VALUE=DATE:20250109
SEQUENCE:0
TRANSP:OPAQUE
END:VEVENT
END:VCALENDAR