BEGIN:VCALENDAR
VERSION:2.0
PRODID:-//jEvents 2.0 for Joomla//EN
CALSCALE:GREGORIAN
METHOD:PUBLISH
BEGIN:VTIMEZONE
TZID:Europe/Athens
BEGIN:STANDARD
DTSTART:20230217T000000
RDATE:20230326T040000
TZOFFSETFROM:+0300
TZOFFSETTO:+0200
TZNAME:Europe/Athens EET
END:STANDARD
BEGIN:STANDARD
DTSTART:20231029T030000
RDATE:20240331T040000
TZOFFSETFROM:+0300
TZOFFSETTO:+0200
TZNAME:Europe/Athens EET
END:STANDARD
BEGIN:STANDARD
DTSTART:20241027T030000
RDATE:20250330T040000
TZOFFSETFROM:+0300
TZOFFSETTO:+0200
TZNAME:Europe/Athens EET
END:STANDARD
BEGIN:STANDARD
DTSTART:20251026T030000
RDATE:20260329T040000
TZOFFSETFROM:+0300
TZOFFSETTO:+0200
TZNAME:Europe/Athens EET
END:STANDARD
BEGIN:STANDARD
DTSTART:20261025T030000
RDATE:20270328T040000
TZOFFSETFROM:+0300
TZOFFSETTO:+0200
TZNAME:Europe/Athens EET
END:STANDARD
BEGIN:STANDARD
DTSTART:20271031T030000
RDATE:20280326T040000
TZOFFSETFROM:+0300
TZOFFSETTO:+0200
TZNAME:Europe/Athens EET
END:STANDARD
BEGIN:STANDARD
DTSTART:20281029T030000
RDATE:20290325T040000
TZOFFSETFROM:+0300
TZOFFSETTO:+0200
TZNAME:Europe/Athens EET
END:STANDARD
BEGIN:STANDARD
DTSTART:20291028T030000
RDATE:20300331T040000
TZOFFSETFROM:+0300
TZOFFSETTO:+0200
TZNAME:Europe/Athens EET
END:STANDARD
BEGIN:STANDARD
DTSTART:20301027T030000
RDATE:20310330T040000
TZOFFSETFROM:+0300
TZOFFSETTO:+0200
TZNAME:Europe/Athens EET
END:STANDARD
BEGIN:DAYLIGHT
DTSTART:20230326T040000
RDATE:20231029T030000
TZOFFSETFROM:+0200
TZOFFSETTO:+0300
TZNAME:Europe/Athens EEST
END:DAYLIGHT
BEGIN:DAYLIGHT
DTSTART:20240331T040000
RDATE:20241027T030000
TZOFFSETFROM:+0200
TZOFFSETTO:+0300
TZNAME:Europe/Athens EEST
END:DAYLIGHT
BEGIN:DAYLIGHT
DTSTART:20250330T040000
RDATE:20251026T030000
TZOFFSETFROM:+0200
TZOFFSETTO:+0300
TZNAME:Europe/Athens EEST
END:DAYLIGHT
BEGIN:DAYLIGHT
DTSTART:20260329T040000
RDATE:20261025T030000
TZOFFSETFROM:+0200
TZOFFSETTO:+0300
TZNAME:Europe/Athens EEST
END:DAYLIGHT
BEGIN:DAYLIGHT
DTSTART:20270328T040000
RDATE:20271031T030000
TZOFFSETFROM:+0200
TZOFFSETTO:+0300
TZNAME:Europe/Athens EEST
END:DAYLIGHT
BEGIN:DAYLIGHT
DTSTART:20280326T040000
RDATE:20281029T030000
TZOFFSETFROM:+0200
TZOFFSETTO:+0300
TZNAME:Europe/Athens EEST
END:DAYLIGHT
BEGIN:DAYLIGHT
DTSTART:20290325T040000
RDATE:20291028T030000
TZOFFSETFROM:+0200
TZOFFSETTO:+0300
TZNAME:Europe/Athens EEST
END:DAYLIGHT
BEGIN:DAYLIGHT
DTSTART:20300331T040000
RDATE:20301027T030000
TZOFFSETFROM:+0200
TZOFFSETTO:+0300
TZNAME:Europe/Athens EEST
END:DAYLIGHT
END:VTIMEZONE
BEGIN:VEVENT
UID:b8ec1adcea804325cd0f3c9d552d3578
CATEGORIES:VIDEO
SUMMARY:Κυριακή ΙΖ΄ Ματθαίου. Της Χαναναίας. Αγ.  Λέοντος Πάπα Ρώμης.
DESCRIPTION;ENCODING=QUOTED-PRINTABLE:<center><p>Κυριακή ΙΖ΄ Ματθαίου. Της Χαναναίας. Αγ.  Λέοντος Πάπα Ρώμης.</p
 ></center><center><iframe width="630" height="484" src="https://www.youtube
 .com/embed/Y3fj14iIGD0" title="Κυριακή ΙΖ΄ Ματθαίου. Της Χαναναίας. Αγ.  Λέ
 οντος Πάπα Ρώμης." frameborder="0" allow="accelerometer; autoplay; clipboar
 d-write; encrypted-media; gyroscope; picture-in-picture; web-share" allowfu
 llscreen></iframe></center>
DTSTAMP:20260419T182803Z
DTSTART;TZID=Europe/Athens;VALUE=DATE:20240218
DTEND;TZID=Europe/Athens;VALUE=DATE:20240219
SEQUENCE:0
TRANSP:OPAQUE
END:VEVENT
END:VCALENDAR