BEGIN:VCALENDAR
VERSION:2.0
PRODID:-//jEvents 2.0 for Joomla//EN
CALSCALE:GREGORIAN
METHOD:PUBLISH
BEGIN:VTIMEZONE
TZID:Europe/Athens
BEGIN:STANDARD
DTSTART:20220123T000000
RDATE:20220327T040000
TZOFFSETFROM:+0300
TZOFFSETTO:+0200
TZNAME:Europe/Athens EET
END:STANDARD
BEGIN:STANDARD
DTSTART:20221030T030000
RDATE:20230326T040000
TZOFFSETFROM:+0300
TZOFFSETTO:+0200
TZNAME:Europe/Athens EET
END:STANDARD
BEGIN:STANDARD
DTSTART:20231029T030000
RDATE:20240331T040000
TZOFFSETFROM:+0300
TZOFFSETTO:+0200
TZNAME:Europe/Athens EET
END:STANDARD
BEGIN:STANDARD
DTSTART:20241027T030000
RDATE:20250330T040000
TZOFFSETFROM:+0300
TZOFFSETTO:+0200
TZNAME:Europe/Athens EET
END:STANDARD
BEGIN:STANDARD
DTSTART:20251026T030000
RDATE:20260329T040000
TZOFFSETFROM:+0300
TZOFFSETTO:+0200
TZNAME:Europe/Athens EET
END:STANDARD
BEGIN:STANDARD
DTSTART:20261025T030000
RDATE:20270328T040000
TZOFFSETFROM:+0300
TZOFFSETTO:+0200
TZNAME:Europe/Athens EET
END:STANDARD
BEGIN:STANDARD
DTSTART:20271031T030000
RDATE:20280326T040000
TZOFFSETFROM:+0300
TZOFFSETTO:+0200
TZNAME:Europe/Athens EET
END:STANDARD
BEGIN:STANDARD
DTSTART:20281029T030000
RDATE:20290325T040000
TZOFFSETFROM:+0300
TZOFFSETTO:+0200
TZNAME:Europe/Athens EET
END:STANDARD
BEGIN:STANDARD
DTSTART:20291028T030000
RDATE:20300331T040000
TZOFFSETFROM:+0300
TZOFFSETTO:+0200
TZNAME:Europe/Athens EET
END:STANDARD
BEGIN:STANDARD
DTSTART:20301027T030000
RDATE:20310330T040000
TZOFFSETFROM:+0300
TZOFFSETTO:+0200
TZNAME:Europe/Athens EET
END:STANDARD
BEGIN:DAYLIGHT
DTSTART:20220327T040000
RDATE:20221030T030000
TZOFFSETFROM:+0200
TZOFFSETTO:+0300
TZNAME:Europe/Athens EEST
END:DAYLIGHT
BEGIN:DAYLIGHT
DTSTART:20230326T040000
RDATE:20231029T030000
TZOFFSETFROM:+0200
TZOFFSETTO:+0300
TZNAME:Europe/Athens EEST
END:DAYLIGHT
BEGIN:DAYLIGHT
DTSTART:20240331T040000
RDATE:20241027T030000
TZOFFSETFROM:+0200
TZOFFSETTO:+0300
TZNAME:Europe/Athens EEST
END:DAYLIGHT
BEGIN:DAYLIGHT
DTSTART:20250330T040000
RDATE:20251026T030000
TZOFFSETFROM:+0200
TZOFFSETTO:+0300
TZNAME:Europe/Athens EEST
END:DAYLIGHT
BEGIN:DAYLIGHT
DTSTART:20260329T040000
RDATE:20261025T030000
TZOFFSETFROM:+0200
TZOFFSETTO:+0300
TZNAME:Europe/Athens EEST
END:DAYLIGHT
BEGIN:DAYLIGHT
DTSTART:20270328T040000
RDATE:20271031T030000
TZOFFSETFROM:+0200
TZOFFSETTO:+0300
TZNAME:Europe/Athens EEST
END:DAYLIGHT
BEGIN:DAYLIGHT
DTSTART:20280326T040000
RDATE:20281029T030000
TZOFFSETFROM:+0200
TZOFFSETTO:+0300
TZNAME:Europe/Athens EEST
END:DAYLIGHT
BEGIN:DAYLIGHT
DTSTART:20290325T040000
RDATE:20291028T030000
TZOFFSETFROM:+0200
TZOFFSETTO:+0300
TZNAME:Europe/Athens EEST
END:DAYLIGHT
BEGIN:DAYLIGHT
DTSTART:20300331T040000
RDATE:20301027T030000
TZOFFSETFROM:+0200
TZOFFSETTO:+0300
TZNAME:Europe/Athens EEST
END:DAYLIGHT
END:VTIMEZONE
BEGIN:VEVENT
UID:e9ff4f084572cf5538f58793dcbac2b2
CATEGORIES:VIDEO
SUMMARY:ΕΠΙΣΚΟΠΟΣ ΚΟΛΟΜΒΙΑΣ. ΕΓΩ ΈΝΑΣ ΙΝΔΙΑΝΟΣ ΚΟΙΤΩ ΠΡΟΣ ΤΗΝ ΕΛΛΑΔΑ ΟΙ ΈΛΛΗΝΕΣ ΌΜΩΣ ΠΡΟΣ ΤΑ ΠΟΥ ΚΟΙΤΑΖΟΥΝ.
DESCRIPTION;ENCODING=QUOTED-PRINTABLE:<p>&Omicron; &kappa;&alpha;&tau;ά &kappa;ό&sigma;&mu;&omicron;&nu; &Lambda;
 &omicron;&upsilon;ΐ&sigmaf; &Alpha;&nu;&tau;ώ&nu;&iota;&omicron; &Tau;ό&rho
 ;&rho;&epsilon;&sigmaf; &Epsilon;&sigma;&kappa;&beta;ί&rho;&epsilon;&lambda
 ; &gamma;&epsilon;&nu;&nu;ή&theta;&eta;&kappa;&epsilon; &sigma;&tau;&eta;&n
 u; &Kappa;&omicron;&lambda;&omicron;&mu;&beta;ί&alpha;. &Sigma;&tau;&iota;&
 sigmaf; 8 &Nu;&omicron;&epsilon;&mu;&beta;&rho;ί&omicron;&upsilon; 2020 &ch
 i;&epsilon;&iota;&rho;&omicron;&tau;&omicron;&nu;ή&theta;&eta;&kappa;&epsil
 on; &sigma;&tau;&omicron;&nu; &Iota;&epsilon;&rho;ό &Nu;&alpha;ό &Kappa;&om
 icron;&iota;&mu;ή&sigma;&epsilon;&omega;&sigmaf; &tau;&eta;&sigmaf; &Theta;
 &epsilon;&omicron;&tau;ό&kappa;&omicron;&upsilon; &Mu;&pi;&omicron;&gamma;&
 kappa;&omicron;&tau;ά &tau;&iota;&tau;&omicron;&upsilon;&lambda;ά&rho;&iota
 ;&omicron;&sigmaf; &Epsilon;&pi;ί&sigma;&kappa;&omicron;&pi;&omicron;&sigma
 f; Ά&sigma;&sigma;&omicron;&upsilon;, &Beta;&omicron;&eta;&theta;ό&sigmaf; 
 &Epsilon;&pi;ί&sigma;&kappa;&omicron;&pi;&omicron;&sigmaf; &tau;&eta;&sigma
 f; &Mu;&eta;&tau;&rho;&omicron;&pi;ό&lambda;&epsilon;&omega;&sigmaf; &Mu;&e
 psilon;&xi;&iota;&kappa;&omicron;ύ. &Tau;&eta; &chi;&epsilon;&iota;&rho;&om
 icron;&tau;&omicron;&nu;ί&alpha; &tau;έ&lambda;&epsilon;&sigma;&epsilon; &o
 micron; &Mu;&eta;&tau;&rho;&omicron;&pi;&omicron;&lambda;ί&tau;&eta;&sigmaf
 ; &Mu;&epsilon;&xi;&iota;&kappa;&omicron;ύ &Alpha;&theta;&eta;&nu;&alpha;&g
 amma;ό&rho;&alpha;&sigmaf;, &sigma;&upsilon;&mu;&pi;&alpha;&rho;&alpha;&sig
 ma;&tau;&alpha;&tau;&omicron;ύ&mu;&epsilon;&nu;&omicron;&sigmaf; &alpha;&pi
 ;ό &tau;&omicron;&nu; &Alpha;&rho;&chi;&iota;&epsilon;&pi;ί&sigma;&kappa;&o
 micron;&pi;&omicron;&sigmaf; &Nu;&tau;ά&lambda;&alpha;&sigmaf; &kappa;&alph
 a;&iota; &Nu;&omicron;&tau;ί&omicron;&upsilon; &Alpha;&mu;&epsilon;&rho;&io
 ta;&kappa;ή &Alpha;&lambda;έ&xi;&alpha;&nu;&delta;&rho;&omicron; (&Mu;&epsi
 lon;&tau;&rho;&omicron;&pi;ό&lambda;&iota;&alpha;) &kappa;&alpha;&iota; &ta
 u;&omicron;&nu; &Epsilon;&pi;ί&sigma;&kappa;&omicron;&pi;&omicron; &Mu;&ups
 ilon;&rho;ί&nu;&eta;&sigmaf; &Alpha;&theta;&eta;&nu;&alpha;&gamma;ό&rho;&al
 pha;. <iframe src="https://www.youtube.com/embed/7H16w13zm-U" width="100%" 
 height="420" title="&Kappa;&upsilon;&rho;&iota;&alpha;&kappa;ή &tau;&omicro
 n;&upsilon; &Zeta;&alpha;&kappa;&chi;&alpha;ί&omicron;&upsilon; (22-01-2023
 )" frameborder="0" allowfullscreen="allowfullscreen"></iframe> </p>
DTSTAMP:20260419T182804Z
DTSTART;TZID=Europe/Athens;VALUE=DATE:20230124
DTEND;TZID=Europe/Athens;VALUE=DATE:20230125
SEQUENCE:0
TRANSP:OPAQUE
END:VEVENT
END:VCALENDAR